Workbook

Sheet Instructions
A1: Risk register – template
A2: Risk management in touch football environments is the process of identifying, assessing, and reducing potential risks that could cause harm to participants—particularly children and young people—across both physical settings (eg fields, changerooms, travel) and online spaces (eg communication platforms, social media).
A3: Note: items included in the risk register below are examples only. It is the responsibility of each provider to develop and maintain governance tools as appropriate to their own unique circumstances.
A5: Committees should include a standing item on the Management/ Executive meeting agenda to address and review safeguarding risks.
A7: How to complete:

Sheet Risk Register
A2: COMPETITION RISK ASSESSMENT
A4: [ASSOCIATION NAME]
A5: LOCATION:
A6: Review date:
A7: Responsible officer:
A8: **content provided as example onle - Association to update
A9: ID | B9: Risk Description | C9: Causes | D9: Impact | E9: Likelihood | F9: Consequence | G9: Risk Rating | H9: Controls & Mitigation Strategies | I9: Likelihood | J9: Consequence | K9: Residual Risk Rating
A10: 1 | B10: Inappropriate person is recruited to Committee, coaching or leadership position within the Association | C10: No recruitment and screening processes in place | D10: Children exposed to risk of harm by inappropriate individual | E10: Possible | F10: Major | G10: =INDEX('Risk Matrix'!$D$5:$H$9,MATCH(E10,'Risk Matrix'!$B$5:$B$9,0),MATCH(F10,'Risk Matrix'!$D$3:$H$3,0)) -> High | H10: Compliance with Blue Card Services requirements EOI/Application includes screening questions from TFA Safeguarding Policy Pre-employment/ volunteer reference check includes asking about child safety | I10: Unlikely | J10: Major | K10: =INDEX('Risk Matrix'!$D$5:$H$9,MATCH(I10,'Risk Matrix'!$B$5:$B$9,0),MATCH(J10,'Risk Matrix'!$D$3:$H$3,0)) -> Moderate
A11: 2 | B11: Parent taking photos and videos at competition, posting to social media | C11: Parents not educated and unaware of Association expectations | D11: Children at risk of being identified online | E11: Almost Certain | F11: Moderate | G11: =INDEX('Risk Matrix'!$D$5:$H$9,MATCH(E11,'Risk Matrix'!$B$5:$B$9,0),MATCH(F11,'Risk Matrix'!$D$3:$H$3,0)) -> Extreme | H11: Clear photography and media policy in place Parents and spectators are informed about image capturing and sharing Consent forms required and actively managed | I11: Unlikely | J11: Moderate | K11: =INDEX('Risk Matrix'!$D$5:$H$9,MATCH(I11,'Risk Matrix'!$B$5:$B$9,0),MATCH(J11,'Risk Matrix'!$D$3:$H$3,0)) -> Moderate
A12: 3 | B12: Coach communicating directly with minors, no Assoc or parental oversight | C12: Coach not educated and unaware of Association expectations | D12: Possible grooming Risk of harm to child | E12: Possible | F12: Major | G12: =INDEX('Risk Matrix'!$D$5:$H$9,MATCH(E12,'Risk Matrix'!$B$5:$B$9,0),MATCH(F12,'Risk Matrix'!$D$3:$H$3,0)) -> High | H12: Approved communication channels between coaches and juniors All communication is visible to parents/guardians or team groups only Coaches are educated on child safe practices and have completed Safeguarding induction Coaches have Blue Card and are linked to Association on BCS Portal | I12: Unlikely | J12: Major | K12: =INDEX('Risk Matrix'!$D$5:$H$9,MATCH(I12,'Risk Matrix'!$B$5:$B$9,0),MATCH(J12,'Risk Matrix'!$D$3:$H$3,0)) -> Moderate
A13: 4 | B13: Minor is left alone with an adult - unsupervised 1 on 1 interaction | C13: Coach not educated and unaware of Association expectations | D13: Safeguarding risk Emotional impact on child Coach in a high risk situation with no witnesses Reptuational risk to Association | E13: Possible | F13: Major | G13: =INDEX('Risk Matrix'!$D$5:$H$9,MATCH(E13,'Risk Matrix'!$B$5:$B$9,0),MATCH(F13,'Risk Matrix'!$D$3:$H$3,0)) -> High | H13: Association establish a policy for late child pick-ups after training or games, including: *Minimum number of adults required to supervise *Escalation process exists when parents cannot be contacted *Parent communication, sign-out procedures, supervision protocols Coaches are educated about Child Safe Practices and expectations | I13: Rare | J13: Major | K13: =INDEX('Risk Matrix'!$D$5:$H$9,MATCH(I13,'Risk Matrix'!$B$5:$B$9,0),MATCH(J13,'Risk Matrix'!$D$3:$H$3,0)) -> Moderate
G14: =INDEX('Risk Matrix'!$D$5:$H$9,MATCH(E14,'Risk Matrix'!$B$5:$B$9,0),MATCH(F14,'Risk Matrix'!$D$3:$H$3,0)) -> #N/A | K14: =INDEX('Risk Matrix'!$D$5:$H$9,MATCH(I14,'Risk Matrix'!$B$5:$B$9,0),MATCH(J14,'Risk Matrix'!$D$3:$H$3,0)) -> #N/A
G15: =INDEX('Risk Matrix'!$D$5:$H$9,MATCH(E15,'Risk Matrix'!$B$5:$B$9,0),MATCH(F15,'Risk Matrix'!$D$3:$H$3,0)) -> #N/A | K15: =INDEX('Risk Matrix'!$D$5:$H$9,MATCH(I15,'Risk Matrix'!$B$5:$B$9,0),MATCH(J15,'Risk Matrix'!$D$3:$H$3,0)) -> #N/A
G16: =INDEX('Risk Matrix'!$D$5:$H$9,MATCH(E16,'Risk Matrix'!$B$5:$B$9,0),MATCH(F16,'Risk Matrix'!$D$3:$H$3,0)) -> #N/A | K16: =INDEX('Risk Matrix'!$D$5:$H$9,MATCH(I16,'Risk Matrix'!$B$5:$B$9,0),MATCH(J16,'Risk Matrix'!$D$3:$H$3,0)) -> #N/A
G17: =INDEX('Risk Matrix'!$D$5:$H$9,MATCH(E17,'Risk Matrix'!$B$5:$B$9,0),MATCH(F17,'Risk Matrix'!$D$3:$H$3,0)) -> #N/A | K17: =INDEX('Risk Matrix'!$D$5:$H$9,MATCH(I17,'Risk Matrix'!$B$5:$B$9,0),MATCH(J17,'Risk Matrix'!$D$3:$H$3,0)) -> #N/A
G18: =INDEX('Risk Matrix'!$D$5:$H$9,MATCH(E18,'Risk Matrix'!$B$5:$B$9,0),MATCH(F18,'Risk Matrix'!$D$3:$H$3,0)) -> #N/A | K18: =INDEX('Risk Matrix'!$D$5:$H$9,MATCH(I18,'Risk Matrix'!$B$5:$B$9,0),MATCH(J18,'Risk Matrix'!$D$3:$H$3,0)) -> #N/A
G19: =INDEX('Risk Matrix'!$D$5:$H$9,MATCH(E19,'Risk Matrix'!$B$5:$B$9,0),MATCH(F19,'Risk Matrix'!$D$3:$H$3,0)) -> #N/A | K19: =INDEX('Risk Matrix'!$D$5:$H$9,MATCH(I19,'Risk Matrix'!$B$5:$B$9,0),MATCH(J19,'Risk Matrix'!$D$3:$H$3,0)) -> #N/A
G20: =INDEX('Risk Matrix'!$D$5:$H$9,MATCH(E20,'Risk Matrix'!$B$5:$B$9,0),MATCH(F20,'Risk Matrix'!$D$3:$H$3,0)) -> #N/A | K20: =INDEX('Risk Matrix'!$D$5:$H$9,MATCH(I20,'Risk Matrix'!$B$5:$B$9,0),MATCH(J20,'Risk Matrix'!$D$3:$H$3,0)) -> #N/A
G21: =INDEX('Risk Matrix'!$D$5:$H$9,MATCH(E21,'Risk Matrix'!$B$5:$B$9,0),MATCH(F21,'Risk Matrix'!$D$3:$H$3,0)) -> #N/A | K21: =INDEX('Risk Matrix'!$D$5:$H$9,MATCH(I21,'Risk Matrix'!$B$5:$B$9,0),MATCH(J21,'Risk Matrix'!$D$3:$H$3,0)) -> #N/A
G22: =INDEX('Risk Matrix'!$D$5:$H$9,MATCH(E22,'Risk Matrix'!$B$5:$B$9,0),MATCH(F22,'Risk Matrix'!$D$3:$H$3,0)) -> #N/A | K22: =INDEX('Risk Matrix'!$D$5:$H$9,MATCH(I22,'Risk Matrix'!$B$5:$B$9,0),MATCH(J22,'Risk Matrix'!$D$3:$H$3,0)) -> #N/A
G23: =INDEX('Risk Matrix'!$D$5:$H$9,MATCH(E23,'Risk Matrix'!$B$5:$B$9,0),MATCH(F23,'Risk Matrix'!$D$3:$H$3,0)) -> #N/A | K23: =INDEX('Risk Matrix'!$D$5:$H$9,MATCH(I23,'Risk Matrix'!$B$5:$B$9,0),MATCH(J23,'Risk Matrix'!$D$3:$H$3,0)) -> #N/A
G24: =INDEX('Risk Matrix'!$D$5:$H$9,MATCH(E24,'Risk Matrix'!$B$5:$B$9,0),MATCH(F24,'Risk Matrix'!$D$3:$H$3,0)) -> #N/A | K24: =INDEX('Risk Matrix'!$D$5:$H$9,MATCH(I24,'Risk Matrix'!$B$5:$B$9,0),MATCH(J24,'Risk Matrix'!$D$3:$H$3,0)) -> #N/A
G25: =INDEX('Risk Matrix'!$D$5:$H$9,MATCH(E25,'Risk Matrix'!$B$5:$B$9,0),MATCH(F25,'Risk Matrix'!$D$3:$H$3,0)) -> #N/A | K25: =INDEX('Risk Matrix'!$D$5:$H$9,MATCH(I25,'Risk Matrix'!$B$5:$B$9,0),MATCH(J25,'Risk Matrix'!$D$3:$H$3,0)) -> #N/A
... G406: =INDEX('Risk Matrix'!$D$5:$H$9,MATCH(E406,'Risk Matrix'!$B$5:$B$9,0),MATCH(F406,'Risk Matrix'!$D$3:$H$3,0)) -> #N/A | K406: =INDEX('Risk Matrix'!$D$5:$H$9,MATCH(I406,'Risk Matrix'!$B$5:$B$9,0),MATCH(J406,'Risk Matrix'!$D$3:$H$3,0)) -> #N/A

Sheet Liklihood & Consequence
A1: Likelihood
A2: Level | B2: Likelihood | C2: Description | E2: Probability
A3: 1 | B3: Rare | C3: May occur only in exceptional circumstances. Would not be seen more than once every 5+ years | E3: <5%
A4: 2 | B4: Unlikely | C4: Low likelihood, but not impossible. May occur once every few years. | E4: 5% - 20%
A5: 3 | B5: Possible | C5: May occur, but infrequently. May occur once every 12 months. | E5: 21% - 50%
A6: 4 | B6: Likely | C6: More likely to occur than not. Happens regularly, even if sporadically. | E6: 51% - 80%
A7: 5 | B7: Almost Certain | C7: Highly likely to occur on a regular basis. Could be reasonably expected at every competition/ event. | E7: >81%
A9: Consequence
A10: Level | B10: Descriptor | C10: Health & Safety Consequences | E10: Other Potential Consequences
A11: 1 | B11: Insignificant | C11: Basic first aid treatment required. Likely to be able to continue the activity post treatment. (E.g. cuts and abrasions.) | E11: Limited participant complaints Inconsequential monetary losses Insignificant property damage / loss
A12: 2 | B12: Minor | C12: First aid or Medical Centre treatment required. Has to cease the activity. (E.g. sprain) | E12: Multiple participant complaints Limited monetary losses Minor property damage / loss
A13: 3 | B13: Moderate | C13: Hospital attention required and/or longer recovery time required post injury. (E.g. low grade muscle tear or simple fracture) | E13: Community / club wide adverse media attention Regulatory breach - warning Moderate financial losses Moderate property damage / loss
A14: 4 | B14: Major | C14: Hospital admission, long term injury or illness, extended rehabilitation. (E.g. complex fracture, complete muscle tear) | E14: Statewide / sport wide adverse media attention Regulatory breach - fines Major financial losses Major property damage / loss
A15: 5 | B15: Severe | C15: Death or permanent significant disability | E15: National adverse media attention Legal prosecution Significant financial losses Significant property damage / loss

Sheet Risk Matrix
A1: Risk Matrix
D2: CONSEQUENCE
A3: LIKELIHOOD | D3: Insignificant | E3: Minor | F3: Moderate | G3: Major | H3: Severe
B4: HLOOKUP | D4: 1 | E4: 2 | F4: 3 | G4: 4 | H4: 5
A5: LIKELIHOOD | B5: Almost Certain | C5: 5 | D5: Moderate | E5: High | F5: Extreme | G5: Extreme | H5: Extreme
B6: Likely | C6: 4 | D6: Moderate | E6: Moderate | F6: High | G6: Extreme | H6: Extreme
B7: Possible | C7: 3 | D7: Low | E7: Moderate | F7: Moderate | G7: High | H7: Extreme
B8: Unlikely | C8: 2 | D8: Low | E8: Low | F8: Moderate | G8: Moderate | H8: High
B9: Rare | C9: 1 | D9: Low | E9: Low | F9: Low | G9: Moderate | H9: Moderate
